BEGIN:VCALENDAR
VERSION:2.0
PRODID:-//Hammerton Studio - ECPv6.15.15//NONSGML v1.0//EN
CALSCALE:GREGORIAN
METHOD:PUBLISH
X-ORIGINAL-URL:https://studio.hammerton.com
X-WR-CALDESC:Events for Hammerton Studio
REFRESH-INTERVAL;VALUE=DURATION:PT1H
X-Robots-Tag:noindex
X-PUBLISHED-TTL:PT1H
BEGIN:VTIMEZONE
TZID:America/Denver
BEGIN:DAYLIGHT
TZOFFSETFROM:-0700
TZOFFSETTO:-0600
TZNAME:MDT
DTSTART:20250309T090000
END:DAYLIGHT
BEGIN:STANDARD
TZOFFSETFROM:-0600
TZOFFSETTO:-0700
TZNAME:MST
DTSTART:20251102T080000
END:STANDARD
BEGIN:DAYLIGHT
TZOFFSETFROM:-0700
TZOFFSETTO:-0600
TZNAME:MDT
DTSTART:20260308T090000
END:DAYLIGHT
BEGIN:STANDARD
TZOFFSETFROM:-0600
TZOFFSETTO:-0700
TZNAME:MST
DTSTART:20261101T080000
END:STANDARD
BEGIN:DAYLIGHT
TZOFFSETFROM:-0700
TZOFFSETTO:-0600
TZNAME:MDT
DTSTART:20270314T090000
END:DAYLIGHT
BEGIN:STANDARD
TZOFFSETFROM:-0600
TZOFFSETTO:-0700
TZNAME:MST
DTSTART:20271107T080000
END:STANDARD
END:VTIMEZONE
BEGIN:VTIMEZONE
TZID:America/Chicago
BEGIN:DAYLIGHT
TZOFFSETFROM:-0600
TZOFFSETTO:-0500
TZNAME:CDT
DTSTART:20250309T080000
END:DAYLIGHT
BEGIN:STANDARD
TZOFFSETFROM:-0500
TZOFFSETTO:-0600
TZNAME:CST
DTSTART:20251102T070000
END:STANDARD
BEGIN:DAYLIGHT
TZOFFSETFROM:-0600
TZOFFSETTO:-0500
TZNAME:CDT
DTSTART:20260308T080000
END:DAYLIGHT
BEGIN:STANDARD
TZOFFSETFROM:-0500
TZOFFSETTO:-0600
TZNAME:CST
DTSTART:20261101T070000
END:STANDARD
BEGIN:DAYLIGHT
TZOFFSETFROM:-0600
TZOFFSETTO:-0500
TZNAME:CDT
DTSTART:20270314T080000
END:DAYLIGHT
BEGIN:STANDARD
TZOFFSETFROM:-0500
TZOFFSETTO:-0600
TZNAME:CST
DTSTART:20271107T070000
END:STANDARD
END:VTIMEZONE
BEGIN:VEVENT
DTSTART;TZID=America/Denver:20260514T140000
DTEND;TZID=America/Denver:20260514T150000
DTSTAMP:20260424T051749
CREATED:20260421T200408Z
LAST-MODIFIED:20260422T150307Z
UID:10000028-1778767200-1778770800@studio.hammerton.com
SUMMARY:Virtual CEU: Glass Lighting Specification
DESCRIPTION:Glass is an ideal design material for decorative lighting! It incorporates form\, shape\, texture\, light and color in a versatile medium with endless design possibilities. Glass can transform a light fixture into a work of art. But the reality is that most decorative lighting deploys glass solely for the functional purpose of diffusing light\, adding little design value. Understanding the various glass manufacturing methods\, properties\, and applications will help you make more thoughtful material and design choices when developing decorative lighting plans for your clients. \nThis course is IDCEC approved for 1 hour of Health\, Safety\, Welfare (HSW) credit.
URL:https://studio.hammerton.com/event/virtual-ceu-glass-lighting-specification-may-2026/
CATEGORIES:CEU
ATTACH;FMTTYPE=image/jpeg:https://images.hammerton.com/uploads/sites/3/2023/06/Hammerton-Artisan-Crafted-Glassblowing-Optic-blown-glass_Gabe_large_Banner.jpg
END:VEVENT
BEGIN:VEVENT
DTSTART;TZID=America/Chicago:20260518T090000
DTEND;TZID=America/Chicago:20260518T110000
DTSTAMP:20260424T051749
CREATED:20260206T231356Z
LAST-MODIFIED:20260217T185550Z
UID:10000023-1779094800-1779102000@studio.hammerton.com
SUMMARY:Lights On!
DESCRIPTION:Enjoy an exclusive opportunity to visit the Hammerton showroom in Dallas (normally only open during Lightovation) to see\, touch\, and experience our designs in person. Our team will be on hand to offer expert guidance in a private setting for you and your clients.
URL:https://studio.hammerton.com/event/lights-on-5-18-2026/
LOCATION:Dallas Market Center\, 2100 N Stemmons Fwy\, 4th Floor #TM4921\, Dallas\, TX\, 75207\, United States
CATEGORIES:Lights On!
ATTACH;FMTTYPE=image/jpeg:https://images.hammerton.com/uploads/sites/3/2026/02/Image-3-e1770656046747.jpg
ORGANIZER;CN="Cassie Hicks%2C Residential Sales Manager":MAILTO:chicks@hammerton.com
END:VEVENT
BEGIN:VEVENT
DTSTART;TZID=America/Chicago:20260608T090000
DTEND;TZID=America/Chicago:20260608T110000
DTSTAMP:20260424T051749
CREATED:20260206T231459Z
LAST-MODIFIED:20260217T185506Z
UID:10000024-1780909200-1780916400@studio.hammerton.com
SUMMARY:Lights On!
DESCRIPTION:Enjoy an exclusive opportunity to visit the Hammerton showroom in Dallas (normally only open during Lightovation) to see\, touch\, and experience our designs in person. Our team will be on hand to offer expert guidance in a private setting for you and your clients.
URL:https://studio.hammerton.com/event/lights-on-6-8-2026/
LOCATION:Dallas Market Center\, 2100 N Stemmons Fwy\, 4th Floor #TM4921\, Dallas\, TX\, 75207\, United States
CATEGORIES:Lights On!
ATTACH;FMTTYPE=image/jpeg:https://images.hammerton.com/uploads/sites/3/2026/02/9-by-16-2.jpg
ORGANIZER;CN="Cassie Hicks%2C Residential Sales Manager":MAILTO:chicks@hammerton.com
END:VEVENT
END:VCALENDAR