BEGIN:VCALENDAR
VERSION:2.0
PRODID:-//Hammerton Studio - ECPv6.15.15//NONSGML v1.0//EN
CALSCALE:GREGORIAN
METHOD:PUBLISH
X-WR-CALNAME:Hammerton Studio
X-ORIGINAL-URL:https://studio.hammerton.com
X-WR-CALDESC:Events for Hammerton Studio
REFRESH-INTERVAL;VALUE=DURATION:PT1H
X-Robots-Tag:noindex
X-PUBLISHED-TTL:PT1H
BEGIN:VTIMEZONE
TZID:America/Denver
BEGIN:DAYLIGHT
TZOFFSETFROM:-0700
TZOFFSETTO:-0600
TZNAME:MDT
DTSTART:20250309T090000
END:DAYLIGHT
BEGIN:STANDARD
TZOFFSETFROM:-0600
TZOFFSETTO:-0700
TZNAME:MST
DTSTART:20251102T080000
END:STANDARD
BEGIN:DAYLIGHT
TZOFFSETFROM:-0700
TZOFFSETTO:-0600
TZNAME:MDT
DTSTART:20260308T090000
END:DAYLIGHT
BEGIN:STANDARD
TZOFFSETFROM:-0600
TZOFFSETTO:-0700
TZNAME:MST
DTSTART:20261101T080000
END:STANDARD
BEGIN:DAYLIGHT
TZOFFSETFROM:-0700
TZOFFSETTO:-0600
TZNAME:MDT
DTSTART:20270314T090000
END:DAYLIGHT
BEGIN:STANDARD
TZOFFSETFROM:-0600
TZOFFSETTO:-0700
TZNAME:MST
DTSTART:20271107T080000
END:STANDARD
END:VTIMEZONE
BEGIN:VEVENT
DTSTART;TZID=America/Denver:20260225T130000
DTEND;TZID=America/Denver:20260225T140000
DTSTAMP:20260424T064028
CREATED:20260206T175729Z
LAST-MODIFIED:20260220T224238Z
UID:10000014-1772024400-1772028000@studio.hammerton.com
SUMMARY:Virtual CEU: Specifying Decorative Outdoor Lighting that Lasts
DESCRIPTION:Specifying outdoor lighting involves must more than aesthetics. Harsh climate conditions such as UV rays\, salty sea air\, and high humidity can cause outdoor fixtures to fail in a matter of months. This course provides design professionals with valuable information regarding the importance of substrate material\, design\, pretreatment\, and finish in specifying decorative outdoor lighting that will withstand harsh climate conditions.
URL:https://studio.hammerton.com/event/ceu-specifying-decorative-outdoor-lighting-that-lasts-february-25-2026/
CATEGORIES:CEU
ATTACH;FMTTYPE=image/jpeg:https://images.hammerton.com/uploads/sites/3/2026/02/Edited-Sconce-scaled-copy.jpeg
END:VEVENT
END:VCALENDAR