BEGIN:VCALENDAR
VERSION:2.0
PRODID:-//Hammerton Studio - ECPv6.15.15//NONSGML v1.0//EN
CALSCALE:GREGORIAN
METHOD:PUBLISH
X-WR-CALNAME:Hammerton Studio
X-ORIGINAL-URL:https://studio.hammerton.com
X-WR-CALDESC:Events for Hammerton Studio
REFRESH-INTERVAL;VALUE=DURATION:PT1H
X-Robots-Tag:noindex
X-PUBLISHED-TTL:PT1H
BEGIN:VTIMEZONE
TZID:America/Chicago
BEGIN:DAYLIGHT
TZOFFSETFROM:-0600
TZOFFSETTO:-0500
TZNAME:CDT
DTSTART:20250309T080000
END:DAYLIGHT
BEGIN:STANDARD
TZOFFSETFROM:-0500
TZOFFSETTO:-0600
TZNAME:CST
DTSTART:20251102T070000
END:STANDARD
BEGIN:DAYLIGHT
TZOFFSETFROM:-0600
TZOFFSETTO:-0500
TZNAME:CDT
DTSTART:20260308T080000
END:DAYLIGHT
BEGIN:STANDARD
TZOFFSETFROM:-0500
TZOFFSETTO:-0600
TZNAME:CST
DTSTART:20261101T070000
END:STANDARD
BEGIN:DAYLIGHT
TZOFFSETFROM:-0600
TZOFFSETTO:-0500
TZNAME:CDT
DTSTART:20270314T080000
END:DAYLIGHT
BEGIN:STANDARD
TZOFFSETFROM:-0500
TZOFFSETTO:-0600
TZNAME:CST
DTSTART:20271107T070000
END:STANDARD
END:VTIMEZONE
BEGIN:VEVENT
DTSTART;TZID=America/Chicago:20260518T090000
DTEND;TZID=America/Chicago:20260518T110000
DTSTAMP:20260424T054122
CREATED:20260206T231356Z
LAST-MODIFIED:20260217T185550Z
UID:10000023-1779094800-1779102000@studio.hammerton.com
SUMMARY:Lights On!
DESCRIPTION:Enjoy an exclusive opportunity to visit the Hammerton showroom in Dallas (normally only open during Lightovation) to see\, touch\, and experience our designs in person. Our team will be on hand to offer expert guidance in a private setting for you and your clients.
URL:https://studio.hammerton.com/event/lights-on-5-18-2026/
LOCATION:Dallas Market Center\, 2100 N Stemmons Fwy\, 4th Floor #TM4921\, Dallas\, TX\, 75207\, United States
CATEGORIES:Lights On!
ATTACH;FMTTYPE=image/jpeg:https://images.hammerton.com/uploads/sites/3/2026/02/Image-3-e1770656046747.jpg
ORGANIZER;CN="Cassie Hicks%2C Residential Sales Manager":MAILTO:chicks@hammerton.com
END:VEVENT
END:VCALENDAR