BEGIN:VCALENDAR
VERSION:2.0
PRODID:-//Hammerton Studio - ECPv6.15.15//NONSGML v1.0//EN
CALSCALE:GREGORIAN
METHOD:PUBLISH
X-WR-CALNAME:Hammerton Studio
X-ORIGINAL-URL:https://studio.hammerton.com
X-WR-CALDESC:Events for Hammerton Studio
REFRESH-INTERVAL;VALUE=DURATION:PT1H
X-Robots-Tag:noindex
X-PUBLISHED-TTL:PT1H
BEGIN:VTIMEZONE
TZID:America/Denver
BEGIN:DAYLIGHT
TZOFFSETFROM:-0700
TZOFFSETTO:-0600
TZNAME:MDT
DTSTART:20250309T090000
END:DAYLIGHT
BEGIN:STANDARD
TZOFFSETFROM:-0600
TZOFFSETTO:-0700
TZNAME:MST
DTSTART:20251102T080000
END:STANDARD
BEGIN:DAYLIGHT
TZOFFSETFROM:-0700
TZOFFSETTO:-0600
TZNAME:MDT
DTSTART:20260308T090000
END:DAYLIGHT
BEGIN:STANDARD
TZOFFSETFROM:-0600
TZOFFSETTO:-0700
TZNAME:MST
DTSTART:20261101T080000
END:STANDARD
BEGIN:DAYLIGHT
TZOFFSETFROM:-0700
TZOFFSETTO:-0600
TZNAME:MDT
DTSTART:20270314T090000
END:DAYLIGHT
BEGIN:STANDARD
TZOFFSETFROM:-0600
TZOFFSETTO:-0700
TZNAME:MST
DTSTART:20271107T080000
END:STANDARD
END:VTIMEZONE
BEGIN:VEVENT
DTSTART;TZID=America/Denver:20260430T140000
DTEND;TZID=America/Denver:20260430T150000
DTSTAMP:20260424T030756
CREATED:20260409T161945Z
LAST-MODIFIED:20260409T185444Z
UID:10000027-1777557600-1777561200@studio.hammerton.com
SUMMARY:Virtual CEU: Lighting without Limits – Mastering Custom Decorative Lighting Specification & Project Delivery
DESCRIPTION:Custom lighting doesn’t have to be complicated. This one-hour CEU course demystifies the custom process for design professionals\, explaining when to use custom solutions\, how to effectively communicate design intent\, and how to select and collaborate with a custom manufacturer to deliver exceptional\, one-of-a-kind results. At the end of this session\, you’ll understand how to confidently plan\, specify and execute custom decorative lighting projects from concept through installation. \nThis course is IDCEC-approved for 1 hour of Health\, Safety\, Welfare credit.
URL:https://studio.hammerton.com/event/virtual-ceu-lighting-without-limits-mastering-custom-decorative-lighting-specification-project-delivery-april-2026/
CATEGORIES:CEU
ATTACH;FMTTYPE=image/jpeg:https://images.hammerton.com/uploads/sites/3/2026/02/Debbie_custom_Jon-Cook-Creative_021126DSC00223_16x9-scaled.jpg
END:VEVENT
END:VCALENDAR