BEGIN:VCALENDAR
VERSION:2.0
PRODID:-//Hammerton Studio - ECPv6.15.15//NONSGML v1.0//EN
CALSCALE:GREGORIAN
METHOD:PUBLISH
X-ORIGINAL-URL:https://studio.hammerton.com
X-WR-CALDESC:Events for Hammerton Studio
REFRESH-INTERVAL;VALUE=DURATION:PT1H
X-Robots-Tag:noindex
X-PUBLISHED-TTL:PT1H
BEGIN:VTIMEZONE
TZID:America/Denver
BEGIN:DAYLIGHT
TZOFFSETFROM:-0700
TZOFFSETTO:-0600
TZNAME:MDT
DTSTART:20250309T090000
END:DAYLIGHT
BEGIN:STANDARD
TZOFFSETFROM:-0600
TZOFFSETTO:-0700
TZNAME:MST
DTSTART:20251102T080000
END:STANDARD
BEGIN:DAYLIGHT
TZOFFSETFROM:-0700
TZOFFSETTO:-0600
TZNAME:MDT
DTSTART:20260308T090000
END:DAYLIGHT
BEGIN:STANDARD
TZOFFSETFROM:-0600
TZOFFSETTO:-0700
TZNAME:MST
DTSTART:20261101T080000
END:STANDARD
BEGIN:DAYLIGHT
TZOFFSETFROM:-0700
TZOFFSETTO:-0600
TZNAME:MDT
DTSTART:20270314T090000
END:DAYLIGHT
BEGIN:STANDARD
TZOFFSETFROM:-0600
TZOFFSETTO:-0700
TZNAME:MST
DTSTART:20271107T080000
END:STANDARD
END:VTIMEZONE
BEGIN:VEVENT
DTSTART;TZID=America/Denver:20260416T140000
DTEND;TZID=America/Denver:20260416T150000
DTSTAMP:20260424T032002
CREATED:20260408T153202Z
LAST-MODIFIED:20260410T182432Z
UID:10000026-1776348000-1776351600@studio.hammerton.com
SUMMARY:Virtual CEU: Specifying Outdoor Lighting that Lasts
DESCRIPTION:Specifying outdoor lighting involves much more than aesthetics. Harsh climate conditions such as UV rays\, salty sea air and high humidity can cause outdoor fixtures to fail in a matter of months. This course provides design professionals with valuable information regarding the importance of substrate material\, design\, pretreatment\, and finish in specifying decorative outdoor lighting that will withstand harsh climate conditions. \nThis course is IDCEC approved for 1 hour of Health\, Safety\, Welfare (HSW) credit.
URL:https://studio.hammerton.com/event/virtual-ceu-specifying-outdoor-lighting-that-lasts-4-16-2026/
CATEGORIES:CEU
ATTACH;FMTTYPE=image/jpeg:https://images.hammerton.com/uploads/sites/3/2025/05/ODB0085-01-SB-FG_NE-CONTEXT_JPG-scaled-e1775671318466.jpg
END:VEVENT
BEGIN:VEVENT
DTSTART;TZID=America/Denver:20260319T110000
DTEND;TZID=America/Denver:20260319T120000
DTSTAMP:20260424T032002
CREATED:20260213T155158Z
LAST-MODIFIED:20260217T203350Z
UID:10000025-1773918000-1773921600@studio.hammerton.com
SUMMARY:In-Person CEU: Lighting without Limits – Mastering Custom Decorative Lighting Specification & Project Delivery
DESCRIPTION:
URL:https://studio.hammerton.com/event/cai-ceu-custom-lighting-3-19-2026/
LOCATION:CAI Designs – Scottsdale\, 2716 N 68th Street\, Suite 4\, Scottsdale\, AZ\, 85257\, United States
CATEGORIES:CEU
ATTACH;FMTTYPE=image/jpeg:https://images.hammerton.com/uploads/sites/3/2026/02/Debbie_custom_Jon-Cook-Creative_021126DSC00223_16x9-scaled.jpg
ORGANIZER;CN="Cassie Hicks%2C Residential Sales Manager":MAILTO:chicks@hammerton.com
END:VEVENT
BEGIN:VEVENT
DTSTART;TZID=America/Denver:20260225T130000
DTEND;TZID=America/Denver:20260225T140000
DTSTAMP:20260424T032002
CREATED:20260206T175729Z
LAST-MODIFIED:20260220T224238Z
UID:10000014-1772024400-1772028000@studio.hammerton.com
SUMMARY:Virtual CEU: Specifying Decorative Outdoor Lighting that Lasts
DESCRIPTION:Specifying outdoor lighting involves must more than aesthetics. Harsh climate conditions such as UV rays\, salty sea air\, and high humidity can cause outdoor fixtures to fail in a matter of months. This course provides design professionals with valuable information regarding the importance of substrate material\, design\, pretreatment\, and finish in specifying decorative outdoor lighting that will withstand harsh climate conditions.
URL:https://studio.hammerton.com/event/ceu-specifying-decorative-outdoor-lighting-that-lasts-february-25-2026/
CATEGORIES:CEU
ATTACH;FMTTYPE=image/jpeg:https://images.hammerton.com/uploads/sites/3/2026/02/Edited-Sconce-scaled-copy.jpeg
END:VEVENT
END:VCALENDAR